BEGIN:VCALENDAR
VERSION:2.0
PRODID:floktu.com
X-WR-TIMEZONE:Australia/Sydney
X-PUBLISHED-TTL:P1W
BEGIN:VEVENT
UID:FloktuEvent29488@floktu.com
DTSTART;TZID=Australia/Sydney:20220319T173000
SEQUENCE:0
TRANSP:OPAQUE
DTEND;TZID=Australia/Sydney:20220319T210000
LOCATION:33 Meson St\, 33 Meson Street\, Gayndah\, Queensland
SUMMARY:Movie Night Under The Stars - Wonder Park
DESCRIPTION:Visit https://themovienightunderthestars-wonderpark.floktu.com 
 for more information.
DTSTAMP:20260420T010730Z
END:VEVENT
BEGIN:VTIMEZONE
TZID:Australia/Sydney
X-LIC-LOCATION:Australia/Sydney
END:VTIMEZONE
END:VCALENDAR