BEGIN:VCALENDAR
VERSION:2.0
PRODID:floktu.com
X-PUBLISHED-TTL:P1W
BEGIN:VEVENT
UID:FloktuEvent29488@floktu.com
DTSTART:20220319T063000Z
SEQUENCE:0
TRANSP:OPAQUE
DTEND:20220319T100000Z
LOCATION:33 Meson St\, 33 Meson Street\, Gayndah\, Queensland
SUMMARY:Movie Night Under The Stars - Wonder Park
DESCRIPTION:Visit https://themovienightunderthestars-wonderpark.floktu.com 
 for more information.
DTSTAMP:20260419T232606Z
END:VEVENT
END:VCALENDAR